BEGIN:VCALENDAR
VERSION:2.0
PRODID:-//Kindertagesstätte &quot;Alter Bahnhof&quot; - ECPv6.15.20//NONSGML v1.0//EN
CALSCALE:GREGORIAN
METHOD:PUBLISH
X-ORIGINAL-URL:http://kita-alter-bahnhof.de
X-WR-CALDESC:Veranstaltungen für Kindertagesstätte &quot;Alter Bahnhof&quot;
REFRESH-INTERVAL;VALUE=DURATION:PT1H
X-Robots-Tag:noindex
X-PUBLISHED-TTL:PT1H
BEGIN:VTIMEZONE
TZID:Europe/Berlin
BEGIN:DAYLIGHT
TZOFFSETFROM:+0100
TZOFFSETTO:+0200
TZNAME:CEST
DTSTART:20240331T010000
END:DAYLIGHT
BEGIN:STANDARD
TZOFFSETFROM:+0200
TZOFFSETTO:+0100
TZNAME:CET
DTSTART:20241027T010000
END:STANDARD
BEGIN:DAYLIGHT
TZOFFSETFROM:+0100
TZOFFSETTO:+0200
TZNAME:CEST
DTSTART:20250330T010000
END:DAYLIGHT
BEGIN:STANDARD
TZOFFSETFROM:+0200
TZOFFSETTO:+0100
TZNAME:CET
DTSTART:20251026T010000
END:STANDARD
BEGIN:DAYLIGHT
TZOFFSETFROM:+0100
TZOFFSETTO:+0200
TZNAME:CEST
DTSTART:20260329T010000
END:DAYLIGHT
BEGIN:STANDARD
TZOFFSETFROM:+0200
TZOFFSETTO:+0100
TZNAME:CET
DTSTART:20261025T010000
END:STANDARD
END:VTIMEZONE
BEGIN:VEVENT
DTSTART;TZID=Europe/Berlin:20250701T100000
DTEND;TZID=Europe/Berlin:20250701T110000
DTSTAMP:20260423T130015
CREATED:20250616T124831Z
LAST-MODIFIED:20250616T124831Z
UID:2081-1751364000-1751367600@kita-alter-bahnhof.de
SUMMARY:Ranzenparade
DESCRIPTION:
URL:http://kita-alter-bahnhof.de/veranstaltung/ranzenparade/
END:VEVENT
BEGIN:VEVENT
DTSTART;TZID=Europe/Berlin:20250702T090000
DTEND;TZID=Europe/Berlin:20250702T140000
DTSTAMP:20260423T130015
CREATED:20250616T124953Z
LAST-MODIFIED:20250616T124953Z
UID:2083-1751446800-1751464800@kita-alter-bahnhof.de
SUMMARY:Theaterfahrt für die Schulkinder nach Bad Hersfeld
DESCRIPTION:
URL:http://kita-alter-bahnhof.de/veranstaltung/theaterfahrt-fuer-die-schulkinder-nach-bad-hersfeld/
END:VEVENT
BEGIN:VEVENT
DTSTART;TZID=Europe/Berlin:20250702T153000
DTEND;TZID=Europe/Berlin:20250702T173000
DTSTAMP:20260423T130015
CREATED:20250616T125212Z
LAST-MODIFIED:20250616T125212Z
UID:2086-1751470200-1751477400@kita-alter-bahnhof.de
SUMMARY:Elternbeiratskaffee
DESCRIPTION:
URL:http://kita-alter-bahnhof.de/veranstaltung/elternbeiratskaffee/
END:VEVENT
BEGIN:VEVENT
DTSTART;VALUE=DATE:20250728
DTEND;VALUE=DATE:20250816
DTSTAMP:20260423T130015
CREATED:20250714T125225Z
LAST-MODIFIED:20250714T125225Z
UID:2100-1753660800-1755302399@kita-alter-bahnhof.de
SUMMARY:Sommerferien
DESCRIPTION:Wir wünschen Euch schöne Ferien und eine erholsame Zeit
URL:http://kita-alter-bahnhof.de/veranstaltung/sommerferien-6/
END:VEVENT
END:VCALENDAR